BEGIN:VCALENDAR
VERSION:2.0
PRODID:-//RIGHTHERE//CALENDARIZE IT V3.2//EN
BEGIN:VEVENT
UID:12308-events@www.northmsec.com
DTSTART;VALUE=DATE:20230420
DTEND;VALUE=DATE:20230420
DTSTAMP:20230213T223014Z
SUMMARY:Celebrating Young Children with Autism Spectrum Disorder
URL:https://www.northmsec.com/events/celebrating-young-children-with-autism
 -spectrum-disorder/
END:VEVENT
END:VCALENDAR