BEGIN:VCALENDAR
VERSION:2.0
PRODID:-//RIGHTHERE//CALENDARIZE IT V3.2//EN
BEGIN:VEVENT
UID:13425-events@www.northmsec.com
DTSTART;VALUE=DATE:20250101
DTEND;VALUE=DATE:20250101
DTSTAMP:20250114T165545Z
SUMMARY:Happy New Year! R and R Closed
URL:https://www.northmsec.com/events/happy-new-year-r-and-r-closed/
END:VEVENT
END:VCALENDAR